BEGIN:VCALENDAR
VERSION:2.0
PRODID:-//wp-events-plugin.com//7.2.3.1//EN
TZID:America/Chicago
X-WR-TIMEZONE:America/Chicago
BEGIN:VEVENT
UID:194@parksandtrails.org
DTSTART;TZID=America/Chicago:20251210T183000
DTEND;TZID=America/Chicago:20251210T193000
DTSTAMP:20251209T203131Z
URL:https://parksandtrails.org/events/gateway-publicmtg/
SUMMARY:Public Comment Meeting for the Gateway State Trail project
DESCRIPTION:City officials will provide detailed information about the Gate
 way State Trail extension into Scandia and announce results of the const
 ruction bidding process. After the presentation the meeting will open for 
 public comment.\n\nJoin a group of supporters from the local community and
  show Scandia City Council that you support this trail. At the meeting we 
 will provide written information and support stickers to wear.
CATEGORIES:Gateway-BrownsCreek
LOCATION:Scandia Community Center\, 14727 209th St N\, Scandia\, MN\, 55073
 \, United States
X-APPLE-STRUCTURED-LOCATION;VALUE=URI;X-ADDRESS=14727 209th St N\, Scandia\
 , MN\, 55073\, United States;X-APPLE-RADIUS=100;X-TITLE=Scandia Community 
 Center:geo:0,0
END:VEVENT
BEGIN:VTIMEZONE
TZID:America/Chicago
X-LIC-LOCATION:America/Chicago
BEGIN:STANDARD
DTSTART:20251102T010000
TZOFFSETFROM:-0500
TZOFFSETTO:-0600
TZNAME:CST
END:STANDARD
END:VTIMEZONE
END:VCALENDAR