BEGIN:VCALENDAR
VERSION:2.0
PRODID:-//wp-events-plugin.com//7.2.3.1//EN
TZID:America/Chicago
X-WR-TIMEZONE:America/Chicago
BEGIN:VEVENT
UID:55@parksandtrails.org
DTSTART;TZID=America/Chicago;VALUE=DATE:20250426
DTEND;TZID=America/Chicago;VALUE=DATE:20250427
DTSTAMP:20250417T204941Z
URL:https://parksandtrails.org/events/free-park-day/
SUMMARY:Free Park Day
DESCRIPTION:Enjoy the state parks on this Free Park Day - no parking permit
  required.
ATTACH;FMTTYPE=image/jpeg:https://i0.wp.com/parksandtrails.org/wp-content/
 uploads/2025/04/2025-04-26-free-park-day.jpg?fit=1125%2C510&ssl=1
CATEGORIES:Afton,Fort Snelling,Frontenac,Lake Bemidji,Lake Louise,Lake
 Maria,Lake Shetek,Maplewood,Minneopa,Nerstrand,Rice Lake,Savanna
 Portage,Sibley,Tettegouche,Whitewater,William O'Brien
LOCATION:Afton State Park\, 6959 Peller Avenue South\, Hastings\, MN\, 5503
 3\, United States
X-APPLE-STRUCTURED-LOCATION;VALUE=URI;X-ADDRESS=6959 Peller Avenue South\, 
 Hastings\, MN\, 55033\, United States;X-APPLE-RADIUS=100;X-TITLE=Afton Sta
 te Park:geo:0,0
END:VEVENT
BEGIN:VTIMEZONE
TZID:America/Chicago
X-LIC-LOCATION:America/Chicago
BEGIN:DAYLIGHT
DTSTART:20250309T030000
TZOFFSETFROM:-0600
TZOFFSETTO:-0500
TZNAME:CDT
END:DAYLIGHT
END:VTIMEZONE
END:VCALENDAR